BEGIN:VCALENDAR
VERSION:2.0
PRODID:-//BesD-kalendar//DE
CALSCALE:GREGORIAN
BEGIN:VEVENT
UID:besd-kalendar-48115@berufsverband-sexarbeit.de
DTSTAMP:20260422T094210Z
DTSTART:20260526T160000Z
DTEND:20260526T170000Z
SUMMARY:Sex Workers write the Law NACHHOLTERMIN
URL:https://berufsverband-sexarbeit.de/06-11-25-eine-stunde-ein-thema-sex-workers-write-the-law/
END:VEVENT
END:VCALENDAR